BEGIN:VCALENDAR
VERSION:2.0
PRODID:icalendar-ruby
CALSCALE:GREGORIAN
METHOD:PUBLISH
BEGIN:VEVENT
DTSTAMP:20260422T020325Z
UID:6-1319239@clc-church.com
DTSTART:20260924T000000Z
DTEND:20260924T010000Z
CLASS:PUBLIC
CREATED:20260421T184512
DESCRIPTION:Bible Study
LAST-MODIFIED:20260421T184512
LOCATION:Christian Life Center\, 806 Russell Palmer Road\, Kingwood\, TX\, 
 77339\, Building E
SUMMARY:Bible Study
URL;VALUE=URI:https://www.clc-church.com/events/bible-study/2026-09-23
END:VEVENT
END:VCALENDAR
